BEGIN:VCALENDAR
VERSION:2.0
PRODID:-//OTW Run Club//Run Calendar//EN
CALSCALE:GREGORIAN
METHOD:PUBLISH
BEGIN:VEVENT
UID:event-otw-runclub-back-to-city-run@onthewayrunclub.com
DTSTAMP:20260424T173819Z
DTSTART:20260501T233000Z
DTEND:20260502T013000Z
SUMMARY:OTW Runclub back to City Run
DESCRIPTION:กลับมาวิ่งชมเมืองในแบบของ OTW Runclub แต่งตัวชิคๆเท่ๆ มาวิ่งกันจบงานมาดื่มกาแฟหอมๆ จากร้าน ATI Coffee กันครับ\nLocation: ATI Coffee Phuket\nMap: https://maps.app.goo.gl/jFDYUYTBc4niLJPfA\nEvent page: https://onthewayrunclub.com/events/otw-runclub-back-to-city-run
LOCATION:ATI Coffee Phuket
URL:https://onthewayrunclub.com/events/otw-runclub-back-to-city-run
END:VEVENT
END:VCALENDAR
